View In:
ArcGIS JavaScript
ArcGIS Online Map Viewer
ArcGIS Earth
ArcMap
View Footprint In:
ArcGIS Online Map Viewer
Service Description: GOL_ALT_TOIT_CRETACE_GE
Name: GOL_ALT_TOIT_CRETACE_GE
Description:
Single Fused Map Cache: false
Extent:
XMin: 2479802.5726
YMin: 1089956.2763
XMax: 2522952.5726
YMax: 1144306.2763
Spatial Reference: 2056
(2056)
Initial Extent:
XMin: 2479802.5726
YMin: 1089956.2763
XMax: 2522952.5726
YMax: 1144306.2763
Spatial Reference: 2056
(2056)
Full Extent:
XMin: 2479802.5726
YMin: 1089956.2763
XMax: 2522952.5726
YMax: 1144306.2763
Spatial Reference: 2056
(2056)
Pixel Size X: 50.0
Pixel Size Y: 50.0
Band Count: 1
Pixel Type: F32
RasterFunction Infos: {"rasterFunctionInfos": [{
"name": "None",
"description": "",
"help": ""
}]}
Mensuration Capabilities: Basic
Has Histograms: true
Has Colormap: false
Has Multi Dimensions : false
Rendering Rule:
Min Scale: 0
Max Scale: 0
Copyright Text:
Service Data Type: esriImageServiceDataTypeGeneric
Min Values: -1841.6981201171875
Max Values: 1224.7569580078125
Mean Values: -220.85158318464843
Standard Deviation Values: 516.2611312002887
Object ID Field:
Fields:
None
Default Mosaic Method: Center
Allowed Mosaic Methods:
SortField:
SortValue: null
Mosaic Operator: First
Default Compression Quality: 75
Default Resampling Method: Bilinear
Max Record Count: null
Max Image Height: 4100
Max Image Width: 15000
Max Download Image Count: null
Max Mosaic Image Count: null
Allow Raster Function: true
Allow Copy: null
Allow Analysis: null
Allow Compute TiePoints: false
Supports Statistics: false
Supports Advanced Queries: false
Use StandardizedQueries: true
Raster Type Infos:
Name: Raster Dataset
Description: Supports all ArcGIS Raster Datasets
Help:
Has Raster Attribute Table: false
Edit Fields Info: null
Ownership Based AccessControl For Rasters: null
Child Resources:
Info
Histograms
Key Properties
Legend
Raster Function Infos
Supported Operations:
Export Image
Identify
Measure
Compute Histograms
Compute Statistics Histograms
Get Samples
Compute Class Statistics
Query Boundary
Compute Pixel Location
Validate
Project