View In:
ArcGIS JavaScript
ArcGIS Online Map Viewer
ArcGIS Earth
ArcMap
View Footprint In:
ArcGIS Online Map Viewer
Service Description: RASTER/MNA_TERRAIN
Name: RASTER/MNA_TERRAIN
Description:
Single Fused Map Cache: false
Extent:
XMin: 2484999.995122537
YMin: 1109500.0331590958
XMax: 2513499.995122537
YMax: 1136000.0331590958
Spatial Reference: 2056
(2056)
Initial Extent:
XMin: 2484999.995122537
YMin: 1109500.0331590958
XMax: 2513499.995122537
YMax: 1136000.0331590958
Spatial Reference: 2056
(2056)
Full Extent:
XMin: 2484999.995122537
YMin: 1109500.0331590958
XMax: 2513499.995122537
YMax: 1136000.0331590958
Spatial Reference: 2056
(2056)
Pixel Size X: 0.5
Pixel Size Y: 0.5
Band Count: 1
Pixel Type: F32
RasterFunction Infos: {"rasterFunctionInfos": [{
"name": "None",
"description": "",
"help": ""
}]}
Mensuration Capabilities: Basic
Has Histograms: true
Has Colormap: false
Has Multi Dimensions : false
Rendering Rule:
Min Scale: 512000
Max Scale: 250
Copyright Text:
Service Data Type: esriImageServiceDataTypeGeneric
Min Values: 330.4939880371094
Max Values: 518.8070068359375
Mean Values: 422.8741126568597
Standard Deviation Values: 35.39003802277945
Object ID Field:
Fields:
None
Default Mosaic Method: Center
Allowed Mosaic Methods:
SortField:
SortValue: null
Mosaic Operator: First
Default Compression Quality: 75
Default Resampling Method: Bilinear
Max Record Count: null
Max Image Height: 4100
Max Image Width: 15000
Max Download Image Count: null
Max Mosaic Image Count: null
Allow Raster Function: true
Allow Copy: null
Allow Analysis: null
Allow Compute TiePoints: false
Supports Statistics: false
Supports Advanced Queries: false
Use StandardizedQueries: true
Raster Type Infos:
Name: Raster Dataset
Description: Supports all ArcGIS Raster Datasets
Help:
Has Raster Attribute Table: false
Edit Fields Info: null
Ownership Based AccessControl For Rasters: null
Child Resources:
Info
Histograms
Key Properties
Legend
Raster Function Infos
Supported Operations:
Export Image
Identify
Measure
Compute Histograms
Compute Statistics Histograms
Get Samples
Compute Class Statistics
Query Boundary
Compute Pixel Location
Validate
Project